BEGIN:VCALENDAR
VERSION:2.0
PRODID:-//Wrose Parish Council - ECPv6.15.18//NONSGML v1.0//EN
CALSCALE:GREGORIAN
METHOD:PUBLISH
X-WR-CALNAME:Wrose Parish Council
X-ORIGINAL-URL:https://www.wroseparishcouncil.gov.uk
X-WR-CALDESC:Events for Wrose Parish Council
REFRESH-INTERVAL;VALUE=DURATION:PT1H
X-Robots-Tag:noindex
X-PUBLISHED-TTL:PT1H
BEGIN:VTIMEZONE
TZID:Europe/London
BEGIN:DAYLIGHT
TZOFFSETFROM:+0000
TZOFFSETTO:+0100
TZNAME:BST
DTSTART:20220327T010000
END:DAYLIGHT
BEGIN:STANDARD
TZOFFSETFROM:+0100
TZOFFSETTO:+0000
TZNAME:GMT
DTSTART:20221030T010000
END:STANDARD
BEGIN:DAYLIGHT
TZOFFSETFROM:+0000
TZOFFSETTO:+0100
TZNAME:BST
DTSTART:20230326T010000
END:DAYLIGHT
BEGIN:STANDARD
TZOFFSETFROM:+0100
TZOFFSETTO:+0000
TZNAME:GMT
DTSTART:20231029T010000
END:STANDARD
BEGIN:DAYLIGHT
TZOFFSETFROM:+0000
TZOFFSETTO:+0100
TZNAME:BST
DTSTART:20240331T010000
END:DAYLIGHT
BEGIN:STANDARD
TZOFFSETFROM:+0100
TZOFFSETTO:+0000
TZNAME:GMT
DTSTART:20241027T010000
END:STANDARD
BEGIN:DAYLIGHT
TZOFFSETFROM:+0000
TZOFFSETTO:+0100
TZNAME:BST
DTSTART:20250330T010000
END:DAYLIGHT
BEGIN:STANDARD
TZOFFSETFROM:+0100
TZOFFSETTO:+0000
TZNAME:GMT
DTSTART:20251026T010000
END:STANDARD
BEGIN:DAYLIGHT
TZOFFSETFROM:+0000
TZOFFSETTO:+0100
TZNAME:BST
DTSTART:20260329T010000
END:DAYLIGHT
BEGIN:STANDARD
TZOFFSETFROM:+0100
TZOFFSETTO:+0000
TZNAME:GMT
DTSTART:20261025T010000
END:STANDARD
BEGIN:DAYLIGHT
TZOFFSETFROM:+0000
TZOFFSETTO:+0100
TZNAME:BST
DTSTART:20270328T010000
END:DAYLIGHT
BEGIN:STANDARD
TZOFFSETFROM:+0100
TZOFFSETTO:+0000
TZNAME:GMT
DTSTART:20271031T010000
END:STANDARD
END:VTIMEZONE
BEGIN:VEVENT
DTSTART;TZID=Europe/London:20260108T190000
DTEND;TZID=Europe/London:20260108T190000
DTSTAMP:20260423T042050
CREATED:20260102T142643Z
LAST-MODIFIED:20260219T152536Z
UID:3404-1767898800-1767898800@www.wroseparishcouncil.gov.uk
SUMMARY:Parish Council Meeting
DESCRIPTION:This meeting will be held at St. Cuthbert’s Church. Members of the public are welcome to attend; please see the agenda for more details.
URL:https://www.wroseparishcouncil.gov.uk/event/parish-council-meeting-24
LOCATION:St Cuthbert’s Church\, 71 Wrose Rd\, BD2 1LN
CATEGORIES:Parish Council Meetings
END:VEVENT
BEGIN:VEVENT
DTSTART;TZID=Europe/London:20251211T190000
DTEND;TZID=Europe/London:20251211T190000
DTSTAMP:20260423T042050
CREATED:20251204T174730Z
LAST-MODIFIED:20260115T144656Z
UID:3340-1765479600-1765479600@www.wroseparishcouncil.gov.uk
SUMMARY:Parish Council Meeting
DESCRIPTION:This meeting will be held at St. Cuthbert’s Church. Members of the public are welcome to attend; please see the agenda for more details.
URL:https://www.wroseparishcouncil.gov.uk/event/parish-council-meeting-23
LOCATION:St Cuthbert’s Church\, 71 Wrose Rd\, BD2 1LN
CATEGORIES:Parish Council Meetings
END:VEVENT
BEGIN:VEVENT
DTSTART;TZID=Europe/London:20251113T190000
DTEND;TZID=Europe/London:20251113T190000
DTSTAMP:20260423T042050
CREATED:20251208T180247Z
LAST-MODIFIED:20251223T090625Z
UID:3352-1763060400-1763060400@www.wroseparishcouncil.gov.uk
SUMMARY:Parish Council Meetings
DESCRIPTION:This meeting will be held at St. Cuthbert’s Church. Members of the public are welcome to attend; please see the agenda for more details.
URL:https://www.wroseparishcouncil.gov.uk/event/parish-council-meetings
LOCATION:St Cuthbert’s Church\, 71 Wrose Rd\, BD2 1LN
CATEGORIES:Parish Council Meetings
END:VEVENT
BEGIN:VEVENT
DTSTART;TZID=Europe/London:20250826T110000
DTEND;TZID=Europe/London:20250826T150000
DTSTAMP:20260423T042050
CREATED:20250722T125349Z
LAST-MODIFIED:20250722T125349Z
UID:3130-1756206000-1756220400@www.wroseparishcouncil.gov.uk
SUMMARY:Play in the Park
DESCRIPTION:Free family fun event
URL:https://www.wroseparishcouncil.gov.uk/event/play-in-the-park-6
LOCATION:Claremont Park\, Wrose Road
END:VEVENT
BEGIN:VEVENT
DTSTART;TZID=Europe/London:20250819T110000
DTEND;TZID=Europe/London:20250819T150000
DTSTAMP:20260423T042050
CREATED:20250722T125247Z
LAST-MODIFIED:20250722T125247Z
UID:3127-1755601200-1755615600@www.wroseparishcouncil.gov.uk
SUMMARY:Play in the Park
DESCRIPTION:Free family fun event
URL:https://www.wroseparishcouncil.gov.uk/event/play-in-the-park-5
LOCATION:Claremont Park\, Wrose Road
END:VEVENT
BEGIN:VEVENT
DTSTART;TZID=Europe/London:20250815T110000
DTEND;TZID=Europe/London:20250815T150000
DTSTAMP:20260423T042050
CREATED:20250811T102547Z
LAST-MODIFIED:20250811T102547Z
UID:3159-1755255600-1755270000@www.wroseparishcouncil.gov.uk
SUMMARY:Play in the Park
DESCRIPTION:Free family fun
URL:https://www.wroseparishcouncil.gov.uk/event/play-in-the-park-7
LOCATION:Claremont Park\, Wrose Road
END:VEVENT
BEGIN:VEVENT
DTSTART;TZID=Europe/London:20250812T110000
DTEND;TZID=Europe/London:20250812T150000
DTSTAMP:20260423T042050
CREATED:20250722T125203Z
LAST-MODIFIED:20250722T125203Z
UID:3124-1754996400-1755010800@www.wroseparishcouncil.gov.uk
SUMMARY:Play in the Park
DESCRIPTION:Free family fun event
URL:https://www.wroseparishcouncil.gov.uk/event/play-in-the-park-4
LOCATION:Claremont Park\, Wrose Road
END:VEVENT
BEGIN:VEVENT
DTSTART;TZID=Europe/London:20250805T110000
DTEND;TZID=Europe/London:20250805T150000
DTSTAMP:20260423T042050
CREATED:20250722T124904Z
LAST-MODIFIED:20250804T102209Z
UID:3118-1754391600-1754406000@www.wroseparishcouncil.gov.uk
SUMMARY:Play in the Park - Cancelled
DESCRIPTION:Free family fun event \nCancelled due to severe weather predictions
URL:https://www.wroseparishcouncil.gov.uk/event/play-in-the-park-3
LOCATION:Claremont Park\, Wrose Road
END:VEVENT
BEGIN:VEVENT
DTSTART;TZID=Europe/London:20250729T110000
DTEND;TZID=Europe/London:20250729T150000
DTSTAMP:20260423T042050
CREATED:20250722T124752Z
LAST-MODIFIED:20250722T125014Z
UID:3115-1753786800-1753801200@www.wroseparishcouncil.gov.uk
SUMMARY:Play in the Park
DESCRIPTION:Free family fun event
URL:https://www.wroseparishcouncil.gov.uk/event/play-in-the-park-2
LOCATION:Claremont Park\, Wrose Road
END:VEVENT
BEGIN:VEVENT
DTSTART;TZID=Europe/London:20250726T113000
DTEND;TZID=Europe/London:20250726T163000
DTSTAMP:20260423T042050
CREATED:20250626T194131Z
LAST-MODIFIED:20250721T172946Z
UID:3053-1753529400-1753547400@www.wroseparishcouncil.gov.uk
SUMMARY:Wrose Live 2025 - The Bold Privateer
DESCRIPTION:
URL:https://www.wroseparishcouncil.gov.uk/event/wrose-live-2025
LOCATION:Outside The Bold Privateer\, Wrose Road
END:VEVENT
BEGIN:VEVENT
DTSTART;TZID=Europe/London:20250725T200000
DTEND;TZID=Europe/London:20250725T210000
DTSTAMP:20260423T042050
CREATED:20250721T172308Z
LAST-MODIFIED:20250721T172920Z
UID:3097-1753473600-1753477200@www.wroseparishcouncil.gov.uk
SUMMARY:Wrose Live 2025 - The Wrose Bull
DESCRIPTION:Live music
URL:https://www.wroseparishcouncil.gov.uk/event/wrose-live
LOCATION:The Wrose Bull\, Wrose Road
END:VEVENT
BEGIN:VEVENT
DTSTART;TZID=Europe/London:20250329T100000
DTEND;TZID=Europe/London:20250329T110000
DTSTAMP:20260423T042050
CREATED:20250320T082012Z
LAST-MODIFIED:20250320T082012Z
UID:2871-1743242400-1743246000@www.wroseparishcouncil.gov.uk
SUMMARY:Community Litter Pick
DESCRIPTION:Please arrive for 10am as the group will be going to the Wrose Quarry Wetlands and it might be difficult for you to find them once they have set off.
URL:https://www.wroseparishcouncil.gov.uk/event/community-litter-pick-2
LOCATION:Highcroft Youth Centre\, Highcroft Youth Centre\, Wrose Parish Council\, London\, BD18 1JD\, United Kingdom
END:VEVENT
BEGIN:VEVENT
DTSTART;TZID=Europe/London:20240827T110000
DTEND;TZID=Europe/London:20240827T150000
DTSTAMP:20260423T042050
CREATED:20240729T111742Z
LAST-MODIFIED:20240729T111742Z
UID:2298-1724756400-1724770800@www.wroseparishcouncil.gov.uk
SUMMARY:Play in the Park - Claremont
DESCRIPTION:Free fun for children this summer.  Provided by Wrose Parish Council in partnership with BMDC
URL:https://www.wroseparishcouncil.gov.uk/event/play-in-the-park-claremont-5
END:VEVENT
BEGIN:VEVENT
DTSTART;TZID=Europe/London:20240820T110000
DTEND;TZID=Europe/London:20240820T150000
DTSTAMP:20260423T042050
CREATED:20240729T111655Z
LAST-MODIFIED:20240729T111655Z
UID:2295-1724151600-1724166000@www.wroseparishcouncil.gov.uk
SUMMARY:Play in the Park - Claremont
DESCRIPTION:Free fun for children this summer.  Provided by Wrose Parish Council in partnership with BMDC
URL:https://www.wroseparishcouncil.gov.uk/event/play-in-the-park-claremont-4
END:VEVENT
BEGIN:VEVENT
DTSTART;TZID=Europe/London:20240813T110000
DTEND;TZID=Europe/London:20240813T150000
DTSTAMP:20260423T042050
CREATED:20240729T111609Z
LAST-MODIFIED:20240729T111609Z
UID:2292-1723546800-1723561200@www.wroseparishcouncil.gov.uk
SUMMARY:Play in the Park - Claremont
DESCRIPTION:Free fun for children this summer.  Provided by Wrose Parish Council in partnership with BMDC
URL:https://www.wroseparishcouncil.gov.uk/event/play-in-the-park-claremont-3
END:VEVENT
BEGIN:VEVENT
DTSTART;TZID=Europe/London:20240806T110000
DTEND;TZID=Europe/London:20240806T150000
DTSTAMP:20260423T042050
CREATED:20240729T111444Z
LAST-MODIFIED:20240729T111444Z
UID:2289-1722942000-1722956400@www.wroseparishcouncil.gov.uk
SUMMARY:Play in the Park - Claremont
DESCRIPTION:Free fun for children this summer.  Provided by Wrose Parish Council in partnership with BMDC
URL:https://www.wroseparishcouncil.gov.uk/event/play-in-the-park-claremont-2
END:VEVENT
BEGIN:VEVENT
DTSTART;TZID=Europe/London:20240730T110000
DTEND;TZID=Europe/London:20240730T150000
DTSTAMP:20260423T042050
CREATED:20240729T111241Z
LAST-MODIFIED:20240729T111324Z
UID:2285-1722337200-1722351600@www.wroseparishcouncil.gov.uk
SUMMARY:Play in the Park - Claremont
DESCRIPTION:Free fun for children this summer.  Provided by Wrose Parish Council in partnership with BMDC
URL:https://www.wroseparishcouncil.gov.uk/event/play-in-the-park-claremont
END:VEVENT
BEGIN:VEVENT
DTSTART;TZID=Europe/London:20240720T110000
DTEND;TZID=Europe/London:20240720T170000
DTSTAMP:20260423T042050
CREATED:20240718T142424Z
LAST-MODIFIED:20240718T143830Z
UID:2248-1721473200-1721494800@www.wroseparishcouncil.gov.uk
SUMMARY:Wrose Festival
DESCRIPTION:
URL:https://www.wroseparishcouncil.gov.uk/event/wrose-festival-is-nearly-here
CATEGORIES:Local Events
END:VEVENT
BEGIN:VEVENT
DTSTART;TZID=Europe/London:20240509T190000
DTEND;TZID=Europe/London:20240509T190000
DTSTAMP:20260423T042050
CREATED:20230602T183517Z
LAST-MODIFIED:20230602T183828Z
UID:1134-1715281200-1715281200@www.wroseparishcouncil.gov.uk
SUMMARY:Parish Council Meeting
DESCRIPTION:
URL:https://www.wroseparishcouncil.gov.uk/event/parish-council-meeting-20
CATEGORIES:Parish Council Meetings
END:VEVENT
BEGIN:VEVENT
DTSTART;TZID=Europe/London:20240411T190000
DTEND;TZID=Europe/London:20240411T190000
DTSTAMP:20260423T042050
CREATED:20230602T183321Z
LAST-MODIFIED:20230602T183321Z
UID:1131-1712862000-1712862000@www.wroseparishcouncil.gov.uk
SUMMARY:Parish Council Meeting
DESCRIPTION:This meeting will be held at St. Cuthbert’s Church. Members of the public are welcome to attend; please see the agenda for more details.
URL:https://www.wroseparishcouncil.gov.uk/event/parish-council-meeting-19
CATEGORIES:Parish Council Meetings
END:VEVENT
BEGIN:VEVENT
DTSTART;TZID=Europe/London:20240314T190000
DTEND;TZID=Europe/London:20240314T190000
DTSTAMP:20260423T042050
CREATED:20230602T183235Z
LAST-MODIFIED:20230602T183235Z
UID:1128-1710442800-1710442800@www.wroseparishcouncil.gov.uk
SUMMARY:Parish Council Meeting
DESCRIPTION:This meeting will be held at St. Cuthbert’s Church. Members of the public are welcome to attend; please see the agenda for more details.
URL:https://www.wroseparishcouncil.gov.uk/event/parish-council-meeting-18
CATEGORIES:Parish Council Meetings
END:VEVENT
BEGIN:VEVENT
DTSTART;TZID=Europe/London:20240208T190000
DTEND;TZID=Europe/London:20240208T190000
DTSTAMP:20260423T042050
CREATED:20230602T183145Z
LAST-MODIFIED:20240208T161438Z
UID:1125-1707418800-1707418800@www.wroseparishcouncil.gov.uk
SUMMARY:Parish Council Meeting - Meeting cancelled due to bad weather
DESCRIPTION:This meeting will be held at St. Cuthbert’s Church. Members of the public are welcome to attend; please see the agenda for more details.
URL:https://www.wroseparishcouncil.gov.uk/event/parish-council-meeting-17
CATEGORIES:Parish Council Meetings
END:VEVENT
BEGIN:VEVENT
DTSTART;TZID=Europe/London:20240111T190000
DTEND;TZID=Europe/London:20240111T190000
DTSTAMP:20260423T042050
CREATED:20240104T165132Z
LAST-MODIFIED:20240219T180323Z
UID:1718-1704999600-1704999600@www.wroseparishcouncil.gov.uk
SUMMARY:Parish Council Meeting
DESCRIPTION:This meeting will be held at St. Cuthbert’s Church. Members of the public are welcome to attend; please see the agenda for more details.
URL:https://www.wroseparishcouncil.gov.uk/event/parish-council-meeting-22
LOCATION:St Cuthbert’s Church\, 71 Wrose Rd\, BD2 1LN
CATEGORIES:Parish Council Meetings
END:VEVENT
BEGIN:VEVENT
DTSTART;TZID=Europe/London:20240111T190000
DTEND;TZID=Europe/London:20240111T190000
DTSTAMP:20260423T042050
CREATED:20230602T183051Z
LAST-MODIFIED:20230602T183051Z
UID:1122-1704999600-1704999600@www.wroseparishcouncil.gov.uk
SUMMARY:Parish Council Meeting
DESCRIPTION:This meeting will be held at St. Cuthbert’s Church. Members of the public are welcome to attend; please see the agenda for more details.
URL:https://www.wroseparishcouncil.gov.uk/event/parish-council-meeting-16
CATEGORIES:Parish Council Meetings
END:VEVENT
BEGIN:VEVENT
DTSTART;TZID=Europe/London:20231214T190000
DTEND;TZID=Europe/London:20231214T210000
DTSTAMP:20260423T042050
CREATED:20230602T183001Z
LAST-MODIFIED:20230602T183616Z
UID:1119-1702580400-1702587600@www.wroseparishcouncil.gov.uk
SUMMARY:Parish Council Meeting
DESCRIPTION:This meeting will be held at St. Cuthbert’s Church. Members of the public are welcome to attend; please see the agenda for more details.
URL:https://www.wroseparishcouncil.gov.uk/event/parish-council-meeting-15
CATEGORIES:Parish Council Meetings
END:VEVENT
BEGIN:VEVENT
DTSTART;TZID=Europe/London:20231109T190000
DTEND;TZID=Europe/London:20231109T190000
DTSTAMP:20260423T042050
CREATED:20230602T182909Z
LAST-MODIFIED:20230602T182909Z
UID:1116-1699556400-1699556400@www.wroseparishcouncil.gov.uk
SUMMARY:Parish Council Meeting
DESCRIPTION:This meeting will be held at St. Cuthbert’s Church. Members of the public are welcome to attend; please see the agenda for more details.
URL:https://www.wroseparishcouncil.gov.uk/event/parish-council-meeting-14
CATEGORIES:Parish Council Meetings
END:VEVENT
BEGIN:VEVENT
DTSTART;TZID=Europe/London:20231005T190000
DTEND;TZID=Europe/London:20231005T190000
DTSTAMP:20260423T042050
CREATED:20231110T175844Z
LAST-MODIFIED:20231123T140555Z
UID:1613-1696532400-1696532400@www.wroseparishcouncil.gov.uk
SUMMARY:Parish Council Meeting
DESCRIPTION:This meeting will be held at St. Cuthbert’s Church. Members of the public are welcome to attend; please see the agenda for more details.
URL:https://www.wroseparishcouncil.gov.uk/event/parish-council-meeting-21
LOCATION:St Cuthbert’s Church\, 71 Wrose Rd\, BD2 1LN
CATEGORIES:Parish Council Meetings
END:VEVENT
BEGIN:VEVENT
DTSTART;TZID=Europe/London:20231005T190000
DTEND;TZID=Europe/London:20231005T190000
DTSTAMP:20260423T042050
CREATED:20230602T182814Z
LAST-MODIFIED:20230602T182814Z
UID:1113-1696532400-1696532400@www.wroseparishcouncil.gov.uk
SUMMARY:Parish Council Meeting
DESCRIPTION:This meeting will be held at St. Cuthbert’s Church. Members of the public are welcome to attend; please see the agenda for more details.
URL:https://www.wroseparishcouncil.gov.uk/event/parish-council-meeting-12
CATEGORIES:Parish Council Meetings
END:VEVENT
BEGIN:VEVENT
DTSTART;TZID=Europe/London:20230914T190000
DTEND;TZID=Europe/London:20230914T210000
DTSTAMP:20260423T042050
CREATED:20230602T182652Z
LAST-MODIFIED:20230602T182652Z
UID:1110-1694718000-1694725200@www.wroseparishcouncil.gov.uk
SUMMARY:Parish Council Meeting
DESCRIPTION:This meeting will be held at St. Cuthbert’s Church. Members of the public are welcome to attend; please see the agenda for more details.
URL:https://www.wroseparishcouncil.gov.uk/event/parish-council-meeting-13
CATEGORIES:Parish Council Meetings
END:VEVENT
BEGIN:VEVENT
DTSTART;TZID=Europe/London:20230829T110000
DTEND;TZID=Europe/London:20230829T150000
DTSTAMP:20260423T042050
CREATED:20230724T134000Z
LAST-MODIFIED:20230724T134000Z
UID:1355-1693306800-1693321200@www.wroseparishcouncil.gov.uk
SUMMARY:Play in the Park (Claremont Park\, Wrose)
DESCRIPTION:Free family fun \nThis event is sponsored by Wrose Parish Council
URL:https://www.wroseparishcouncil.gov.uk/event/play-in-the-park-claremont-park-wrose-3
CATEGORIES:Local Events
END:VEVENT
END:VCALENDAR