BEGIN:VCALENDAR
VERSION:2.0
PRODID:-//Wrose Parish Council - ECPv6.15.18//NONSGML v1.0//EN
CALSCALE:GREGORIAN
METHOD:PUBLISH
X-WR-CALNAME:Wrose Parish Council
X-ORIGINAL-URL:https://www.wroseparishcouncil.gov.uk
X-WR-CALDESC:Events for Wrose Parish Council
REFRESH-INTERVAL;VALUE=DURATION:PT1H
X-Robots-Tag:noindex
X-PUBLISHED-TTL:PT1H
BEGIN:VTIMEZONE
TZID:Europe/London
BEGIN:DAYLIGHT
TZOFFSETFROM:+0000
TZOFFSETTO:+0100
TZNAME:BST
DTSTART:20210328T010000
END:DAYLIGHT
BEGIN:STANDARD
TZOFFSETFROM:+0100
TZOFFSETTO:+0000
TZNAME:GMT
DTSTART:20211031T010000
END:STANDARD
BEGIN:DAYLIGHT
TZOFFSETFROM:+0000
TZOFFSETTO:+0100
TZNAME:BST
DTSTART:20220327T010000
END:DAYLIGHT
BEGIN:STANDARD
TZOFFSETFROM:+0100
TZOFFSETTO:+0000
TZNAME:GMT
DTSTART:20221030T010000
END:STANDARD
BEGIN:DAYLIGHT
TZOFFSETFROM:+0000
TZOFFSETTO:+0100
TZNAME:BST
DTSTART:20230326T010000
END:DAYLIGHT
BEGIN:STANDARD
TZOFFSETFROM:+0100
TZOFFSETTO:+0000
TZNAME:GMT
DTSTART:20231029T010000
END:STANDARD
BEGIN:DAYLIGHT
TZOFFSETFROM:+0000
TZOFFSETTO:+0100
TZNAME:BST
DTSTART:20240331T010000
END:DAYLIGHT
BEGIN:STANDARD
TZOFFSETFROM:+0100
TZOFFSETTO:+0000
TZNAME:GMT
DTSTART:20241027T010000
END:STANDARD
END:VTIMEZONE
BEGIN:VEVENT
DTSTART;TZID=Europe/London:20231109T190000
DTEND;TZID=Europe/London:20231109T190000
DTSTAMP:20260423T041752
CREATED:20230602T182909Z
LAST-MODIFIED:20230602T182909Z
UID:1116-1699556400-1699556400@www.wroseparishcouncil.gov.uk
SUMMARY:Parish Council Meeting
DESCRIPTION:This meeting will be held at St. Cuthbert’s Church. Members of the public are welcome to attend; please see the agenda for more details.
URL:https://www.wroseparishcouncil.gov.uk/event/parish-council-meeting-14
CATEGORIES:Parish Council Meetings
END:VEVENT
BEGIN:VEVENT
DTSTART;TZID=Europe/London:20231005T190000
DTEND;TZID=Europe/London:20231005T190000
DTSTAMP:20260423T041752
CREATED:20231110T175844Z
LAST-MODIFIED:20231123T140555Z
UID:1613-1696532400-1696532400@www.wroseparishcouncil.gov.uk
SUMMARY:Parish Council Meeting
DESCRIPTION:This meeting will be held at St. Cuthbert’s Church. Members of the public are welcome to attend; please see the agenda for more details.
URL:https://www.wroseparishcouncil.gov.uk/event/parish-council-meeting-21
LOCATION:St Cuthbert’s Church\, 71 Wrose Rd\, BD2 1LN
CATEGORIES:Parish Council Meetings
END:VEVENT
BEGIN:VEVENT
DTSTART;TZID=Europe/London:20231005T190000
DTEND;TZID=Europe/London:20231005T190000
DTSTAMP:20260423T041752
CREATED:20230602T182814Z
LAST-MODIFIED:20230602T182814Z
UID:1113-1696532400-1696532400@www.wroseparishcouncil.gov.uk
SUMMARY:Parish Council Meeting
DESCRIPTION:This meeting will be held at St. Cuthbert’s Church. Members of the public are welcome to attend; please see the agenda for more details.
URL:https://www.wroseparishcouncil.gov.uk/event/parish-council-meeting-12
CATEGORIES:Parish Council Meetings
END:VEVENT
BEGIN:VEVENT
DTSTART;TZID=Europe/London:20230914T190000
DTEND;TZID=Europe/London:20230914T210000
DTSTAMP:20260423T041752
CREATED:20230602T182652Z
LAST-MODIFIED:20230602T182652Z
UID:1110-1694718000-1694725200@www.wroseparishcouncil.gov.uk
SUMMARY:Parish Council Meeting
DESCRIPTION:This meeting will be held at St. Cuthbert’s Church. Members of the public are welcome to attend; please see the agenda for more details.
URL:https://www.wroseparishcouncil.gov.uk/event/parish-council-meeting-13
CATEGORIES:Parish Council Meetings
END:VEVENT
BEGIN:VEVENT
DTSTART;TZID=Europe/London:20230829T110000
DTEND;TZID=Europe/London:20230829T150000
DTSTAMP:20260423T041752
CREATED:20230724T134000Z
LAST-MODIFIED:20230724T134000Z
UID:1355-1693306800-1693321200@www.wroseparishcouncil.gov.uk
SUMMARY:Play in the Park (Claremont Park\, Wrose)
DESCRIPTION:Free family fun \nThis event is sponsored by Wrose Parish Council
URL:https://www.wroseparishcouncil.gov.uk/event/play-in-the-park-claremont-park-wrose-3
CATEGORIES:Local Events
END:VEVENT
BEGIN:VEVENT
DTSTART;TZID=Europe/London:20230822T110000
DTEND;TZID=Europe/London:20230822T150000
DTSTAMP:20260423T041752
CREATED:20230724T133844Z
LAST-MODIFIED:20230724T133900Z
UID:1352-1692702000-1692716400@www.wroseparishcouncil.gov.uk
SUMMARY:Play in the Park (Claremont Park\, Wrose)
DESCRIPTION:Free family fun \nThis event is sponsored by Wrose Parish Council
URL:https://www.wroseparishcouncil.gov.uk/event/play-in-the-park-claremont-park-wrose-2
CATEGORIES:Local Events
END:VEVENT
BEGIN:VEVENT
DTSTART;TZID=Europe/London:20230815T110000
DTEND;TZID=Europe/London:20230815T150000
DTSTAMP:20260423T041752
CREATED:20230724T133657Z
LAST-MODIFIED:20230724T133657Z
UID:1347-1692097200-1692111600@www.wroseparishcouncil.gov.uk
SUMMARY:Play in the Park (Claremont Park\, Wrose)
DESCRIPTION:Free family fun \nThis event is sponsored by Wrose Parish Council
URL:https://www.wroseparishcouncil.gov.uk/event/play-in-the-park-claremont-park-wrose
CATEGORIES:Local Events
END:VEVENT
BEGIN:VEVENT
DTSTART;TZID=Europe/London:20230810T190000
DTEND;TZID=Europe/London:20230810T190000
DTSTAMP:20260423T041752
CREATED:20230602T181103Z
LAST-MODIFIED:20230602T181103Z
UID:1097-1691694000-1691694000@www.wroseparishcouncil.gov.uk
SUMMARY:Parish Council Meeting
DESCRIPTION:This meeting will be held at St. Cuthbert’s Church. Members of the public are welcome to attend; please see the agenda for more details.
URL:https://www.wroseparishcouncil.gov.uk/event/parish-council-meeting-11
CATEGORIES:Parish Council Meetings
END:VEVENT
BEGIN:VEVENT
DTSTART;TZID=Europe/London:20230808T110000
DTEND;TZID=Europe/London:20230808T150000
DTSTAMP:20260423T041752
CREATED:20230724T132906Z
LAST-MODIFIED:20230724T133750Z
UID:1329-1691492400-1691506800@www.wroseparishcouncil.gov.uk
SUMMARY:Play in the Park (Claremont Park\, Wrose)
DESCRIPTION:Free family fun. \nThis event is sponsored by Wrose Parish Counci
URL:https://www.wroseparishcouncil.gov.uk/event/play-in-the-park-claremont-wrose
CATEGORIES:Local Events
END:VEVENT
BEGIN:VEVENT
DTSTART;TZID=Europe/London:20230801T110000
DTEND;TZID=Europe/London:20230801T150000
DTSTAMP:20260423T041752
CREATED:20230724T132549Z
LAST-MODIFIED:20230724T133418Z
UID:1323-1690887600-1690902000@www.wroseparishcouncil.gov.uk
SUMMARY:Play in the Park (Claremont Park\, Wrose)
DESCRIPTION:Free family fun \nThis event is sponsored by Wrose Parish Council
URL:https://www.wroseparishcouncil.gov.uk/event/play-in-the-park
CATEGORIES:Local Events
END:VEVENT
BEGIN:VEVENT
DTSTART;TZID=Europe/London:20230715T110000
DTEND;TZID=Europe/London:20230715T180000
DTSTAMP:20260423T041752
CREATED:20230706T160140Z
LAST-MODIFIED:20230724T132649Z
UID:1230-1689418800-1689444000@www.wroseparishcouncil.gov.uk
SUMMARY:Wrose Summer Festival
DESCRIPTION:Music\, Food\, Retail and Community Stalls \nEvent Sponsored by Wrose Parish Council and supported by CBMDC \nFind us behind The Bold Privateer\, Wrose
URL:https://www.wroseparishcouncil.gov.uk/event/wrose-summer-festival
CATEGORIES:Local Events
END:VEVENT
BEGIN:VEVENT
DTSTART;TZID=Europe/London:20230713T190000
DTEND;TZID=Europe/London:20230713T210000
DTSTAMP:20260423T041752
CREATED:20230602T181015Z
LAST-MODIFIED:20230602T181245Z
UID:1094-1689274800-1689282000@www.wroseparishcouncil.gov.uk
SUMMARY:Parish Council Meeting
DESCRIPTION:This meeting will be held at St. Cuthbert’s Church. Members of the public are welcome to attend; please see the agenda for more details.
URL:https://www.wroseparishcouncil.gov.uk/event/parish-council-meeting-10
CATEGORIES:Parish Council Meetings
END:VEVENT
BEGIN:VEVENT
DTSTART;TZID=Europe/London:20230608T190000
DTEND;TZID=Europe/London:20230608T210000
DTSTAMP:20260423T041752
CREATED:20230602T180804Z
LAST-MODIFIED:20230602T180804Z
UID:1091-1686250800-1686258000@www.wroseparishcouncil.gov.uk
SUMMARY:Parish Council Meeting
DESCRIPTION:This meeting will be held at St. Cuthbert’s Church. Members of the public are welcome to attend; please see the agenda for more details.
URL:https://www.wroseparishcouncil.gov.uk/event/parish-council-meeting-9
CATEGORIES:Parish Council Meetings
END:VEVENT
BEGIN:VEVENT
DTSTART;TZID=Europe/London:20230511T193000
DTEND;TZID=Europe/London:20230511T193000
DTSTAMP:20260423T041752
CREATED:20220930T173900Z
LAST-MODIFIED:20230613T092230Z
UID:161-1683833400-1683833400@www.wroseparishcouncil.gov.uk
SUMMARY:Parish Council Meeting
DESCRIPTION:This meeting will be held at St. Cuthbert’s Church. Members of the public are welcome to attend; please see the agenda for more details.
URL:https://www.wroseparishcouncil.gov.uk/event/parish-council-meeting-8
LOCATION:St Cuthbert’s Church\, 71 Wrose Rd\, BD2 1LN
CATEGORIES:Parish Council Meetings
END:VEVENT
BEGIN:VEVENT
DTSTART;TZID=Europe/London:20230511T190000
DTEND;TZID=Europe/London:20230511T193000
DTSTAMP:20260423T041752
CREATED:20230213T161518Z
LAST-MODIFIED:20230213T163015Z
UID:691-1683831600-1683833400@www.wroseparishcouncil.gov.uk
SUMMARY:Annual Parish Meeting
DESCRIPTION:This meeting will be held at St. Cuthbert’s Church. Members of the public are welcome to attend; please see the agenda\, once published\, for more details.
URL:https://www.wroseparishcouncil.gov.uk/event/annual-parish-meeting
CATEGORIES:Parish Council Meetings
END:VEVENT
BEGIN:VEVENT
DTSTART;TZID=Europe/London:20230511T190000
DTEND;TZID=Europe/London:20230511T190000
DTSTAMP:20260423T041752
CREATED:20230428T192239Z
LAST-MODIFIED:20240229T182852Z
UID:962-1683831600-1683831600@www.wroseparishcouncil.gov.uk
SUMMARY:Annual Parish Meeting
DESCRIPTION:Annual Parish Meeting
URL:https://www.wroseparishcouncil.gov.uk/event/annual-parish-meeting-2
LOCATION:St Cuthbert’s Church\, 71 Wrose Rd\, BD2 1LN
CATEGORIES:Parish Council Meetings
END:VEVENT
BEGIN:VEVENT
DTSTART;TZID=Europe/London:20230511T183000
DTEND;TZID=Europe/London:20230511T190000
DTSTAMP:20260423T041752
CREATED:20230213T162438Z
LAST-MODIFIED:20230213T162652Z
UID:688-1683829800-1683831600@www.wroseparishcouncil.gov.uk
SUMMARY:Annual Meeting
DESCRIPTION:This meeting will be held at St. Cuthbert’s Church. Members of the public are welcome to attend; please see the agenda\, once published\, for more details.
URL:https://www.wroseparishcouncil.gov.uk/event/annual-meeting
CATEGORIES:Parish Council Meetings
END:VEVENT
BEGIN:VEVENT
DTSTART;TZID=Europe/London:20230507T150000
DTEND;TZID=Europe/London:20230507T170000
DTSTAMP:20260423T041752
CREATED:20230504T112855Z
LAST-MODIFIED:20230504T112855Z
UID:991-1683471600-1683478800@www.wroseparishcouncil.gov.uk
SUMMARY:Coronation tea at St Cuthbert's Chruch
DESCRIPTION:Free refreshments and activities
URL:https://www.wroseparishcouncil.gov.uk/event/coronation-tea-at-st-cuthberts-chruch
CATEGORIES:Local Events
END:VEVENT
BEGIN:VEVENT
DTSTART;TZID=Europe/London:20230413T190000
DTEND;TZID=Europe/London:20230413T190000
DTSTAMP:20260423T041752
CREATED:20220930T173838Z
LAST-MODIFIED:20231110T175952Z
UID:159-1681412400-1681412400@www.wroseparishcouncil.gov.uk
SUMMARY:Parish Council Meeting
DESCRIPTION:This meeting will be held at St. Cuthbert’s Church. Members of the public are welcome to attend; please see the agenda for more details.
URL:https://www.wroseparishcouncil.gov.uk/event/parish-council-meeting-7
LOCATION:St Cuthbert’s Church\, 71 Wrose Rd\, BD2 1LN
CATEGORIES:Parish Council Meetings
END:VEVENT
BEGIN:VEVENT
DTSTART;TZID=Europe/London:20230318T000000
DTEND;TZID=Europe/London:20230318T000000
DTSTAMP:20260423T041752
CREATED:20230313T171134Z
LAST-MODIFIED:20230313T171344Z
UID:780-1679097600-1679097600@www.wroseparishcouncil.gov.uk
SUMMARY:Community Litter Pick
DESCRIPTION:Meet at Claremont park outdoor gym area.    Litter pickers and bags will be provided
URL:https://www.wroseparishcouncil.gov.uk/event/community-litter-pick
CATEGORIES:Local Events
END:VEVENT
BEGIN:VEVENT
DTSTART;TZID=Europe/London:20230309T190000
DTEND;TZID=Europe/London:20230309T190000
DTSTAMP:20260423T041752
CREATED:20220930T173818Z
LAST-MODIFIED:20230422T115507Z
UID:157-1678388400-1678388400@www.wroseparishcouncil.gov.uk
SUMMARY:Parish Council Meeting
DESCRIPTION:This meeting will be held at St. Cuthbert’s Church. Members of the public are welcome to attend; please see the agenda for more details.
URL:https://www.wroseparishcouncil.gov.uk/event/parish-council-meeting-6
LOCATION:St Cuthbert’s Church\, 71 Wrose Rd\, BD2 1LN
CATEGORIES:Parish Council Meetings
END:VEVENT
BEGIN:VEVENT
DTSTART;TZID=Europe/London:20230209T190000
DTEND;TZID=Europe/London:20230209T190000
DTSTAMP:20260423T041752
CREATED:20220930T173801Z
LAST-MODIFIED:20230317T180947Z
UID:155-1675969200-1675969200@www.wroseparishcouncil.gov.uk
SUMMARY:Parish Council Meeting
DESCRIPTION:This meeting will be held at St. Cuthbert’s Church. Members of the public are welcome to attend; please see the agenda for more details.
URL:https://www.wroseparishcouncil.gov.uk/event/parish-council-meeting-5
LOCATION:St Cuthbert’s Church\, 71 Wrose Rd\, BD2 1LN
CATEGORIES:Parish Council Meetings
END:VEVENT
BEGIN:VEVENT
DTSTART;TZID=Europe/London:20230112T190000
DTEND;TZID=Europe/London:20230112T190000
DTSTAMP:20260423T041752
CREATED:20220930T173743Z
LAST-MODIFIED:20230213T145749Z
UID:152-1673550000-1673550000@www.wroseparishcouncil.gov.uk
SUMMARY:Parish Council Meeting
DESCRIPTION:This meeting will be held at St. Cuthbert’s Church. Members of the public are welcome to attend; please see the agenda for more details.
URL:https://www.wroseparishcouncil.gov.uk/event/parish-council-meeting-4
LOCATION:St Cuthbert’s Church\, 71 Wrose Rd\, BD2 1LN
CATEGORIES:Parish Council Meetings
END:VEVENT
BEGIN:VEVENT
DTSTART;TZID=Europe/London:20221208T190000
DTEND;TZID=Europe/London:20221208T190000
DTSTAMP:20260423T041752
CREATED:20220930T173726Z
LAST-MODIFIED:20230118T121322Z
UID:150-1670526000-1670526000@www.wroseparishcouncil.gov.uk
SUMMARY:Parish Council Meeting
DESCRIPTION:This meeting will be held at St. Cuthbert’s Church. Members of the public are welcome to attend; please see the agenda for more details.
URL:https://www.wroseparishcouncil.gov.uk/event/parish-council-meeting-3
LOCATION:St Cuthbert’s Church\, 71 Wrose Rd\, BD2 1LN
CATEGORIES:Parish Council Meetings
END:VEVENT
BEGIN:VEVENT
DTSTART;TZID=Europe/London:20221110T190000
DTEND;TZID=Europe/London:20221110T190000
DTSTAMP:20260423T041752
CREATED:20220930T173710Z
LAST-MODIFIED:20221219T165907Z
UID:148-1668106800-1668106800@www.wroseparishcouncil.gov.uk
SUMMARY:Parish Council Meeting
DESCRIPTION:This meeting will be held at St. Cuthbert’s Church. Members of the public are welcome to attend; please see the agenda for more details.
URL:https://www.wroseparishcouncil.gov.uk/event/parish-council-meeting-2
LOCATION:St Cuthbert’s Church\, 71 Wrose Rd\, BD2 1LN
CATEGORIES:Parish Council Meetings
END:VEVENT
BEGIN:VEVENT
DTSTART;TZID=Europe/London:20221013T190000
DTEND;TZID=Europe/London:20221013T190000
DTSTAMP:20260423T041752
CREATED:20220930T172330Z
LAST-MODIFIED:20221026T155839Z
UID:146-1665687600-1665687600@www.wroseparishcouncil.gov.uk
SUMMARY:Parish Council Meeting
DESCRIPTION:This meeting will be held at St. Cuthbert’s Church. Members of the public are welcome to attend; please see the agenda for more details.
URL:https://www.wroseparishcouncil.gov.uk/event/parish-council-meeting
LOCATION:St Cuthbert’s Church\, 71 Wrose Rd\, BD2 1LN
CATEGORIES:Parish Council Meetings
END:VEVENT
END:VCALENDAR