BEGIN:VCALENDAR
VERSION:2.0
PRODID:-//Wrose Parish Council - ECPv6.15.18//NONSGML v1.0//EN
CALSCALE:GREGORIAN
METHOD:PUBLISH
X-WR-CALNAME:Wrose Parish Council
X-ORIGINAL-URL:https://www.wroseparishcouncil.gov.uk
X-WR-CALDESC:Events for Wrose Parish Council
REFRESH-INTERVAL;VALUE=DURATION:PT1H
X-Robots-Tag:noindex
X-PUBLISHED-TTL:PT1H
BEGIN:VTIMEZONE
TZID:Europe/London
BEGIN:DAYLIGHT
TZOFFSETFROM:+0000
TZOFFSETTO:+0100
TZNAME:BST
DTSTART:20210328T010000
END:DAYLIGHT
BEGIN:STANDARD
TZOFFSETFROM:+0100
TZOFFSETTO:+0000
TZNAME:GMT
DTSTART:20211031T010000
END:STANDARD
BEGIN:DAYLIGHT
TZOFFSETFROM:+0000
TZOFFSETTO:+0100
TZNAME:BST
DTSTART:20220327T010000
END:DAYLIGHT
BEGIN:STANDARD
TZOFFSETFROM:+0100
TZOFFSETTO:+0000
TZNAME:GMT
DTSTART:20221030T010000
END:STANDARD
BEGIN:DAYLIGHT
TZOFFSETFROM:+0000
TZOFFSETTO:+0100
TZNAME:BST
DTSTART:20230326T010000
END:DAYLIGHT
BEGIN:STANDARD
TZOFFSETFROM:+0100
TZOFFSETTO:+0000
TZNAME:GMT
DTSTART:20231029T010000
END:STANDARD
END:VTIMEZONE
BEGIN:VEVENT
DTSTART;TZID=Europe/London:20221110T190000
DTEND;TZID=Europe/London:20221110T190000
DTSTAMP:20260423T061327
CREATED:20220930T173710Z
LAST-MODIFIED:20221219T165907Z
UID:148-1668106800-1668106800@www.wroseparishcouncil.gov.uk
SUMMARY:Parish Council Meeting
DESCRIPTION:This meeting will be held at St. Cuthbert’s Church. Members of the public are welcome to attend; please see the agenda for more details.
URL:https://www.wroseparishcouncil.gov.uk/event/parish-council-meeting-2
LOCATION:St Cuthbert’s Church\, 71 Wrose Rd\, BD2 1LN
CATEGORIES:Parish Council Meetings
END:VEVENT
BEGIN:VEVENT
DTSTART;TZID=Europe/London:20221013T190000
DTEND;TZID=Europe/London:20221013T190000
DTSTAMP:20260423T061327
CREATED:20220930T172330Z
LAST-MODIFIED:20221026T155839Z
UID:146-1665687600-1665687600@www.wroseparishcouncil.gov.uk
SUMMARY:Parish Council Meeting
DESCRIPTION:This meeting will be held at St. Cuthbert’s Church. Members of the public are welcome to attend; please see the agenda for more details.
URL:https://www.wroseparishcouncil.gov.uk/event/parish-council-meeting
LOCATION:St Cuthbert’s Church\, 71 Wrose Rd\, BD2 1LN
CATEGORIES:Parish Council Meetings
END:VEVENT
END:VCALENDAR